BEGIN:VCALENDAR
VERSION:2.0
PRODID:-//Les Sœurs de l&#039;Alliance - ECPv6.15.20//NONSGML v1.0//EN
CALSCALE:GREGORIAN
METHOD:PUBLISH
X-ORIGINAL-URL:https://soeurs-de-lalliance.org
X-WR-CALDESC:Évènements pour Les Sœurs de l&#039;Alliance
REFRESH-INTERVAL;VALUE=DURATION:PT1H
X-Robots-Tag:noindex
X-PUBLISHED-TTL:PT1H
BEGIN:VTIMEZONE
TZID:Europe/Paris
BEGIN:DAYLIGHT
TZOFFSETFROM:+0100
TZOFFSETTO:+0200
TZNAME:CEST
DTSTART:20190331T010000
END:DAYLIGHT
BEGIN:STANDARD
TZOFFSETFROM:+0200
TZOFFSETTO:+0100
TZNAME:CET
DTSTART:20191027T010000
END:STANDARD
BEGIN:DAYLIGHT
TZOFFSETFROM:+0100
TZOFFSETTO:+0200
TZNAME:CEST
DTSTART:20200329T010000
END:DAYLIGHT
BEGIN:STANDARD
TZOFFSETFROM:+0200
TZOFFSETTO:+0100
TZNAME:CET
DTSTART:20201025T010000
END:STANDARD
BEGIN:DAYLIGHT
TZOFFSETFROM:+0100
TZOFFSETTO:+0200
TZNAME:CEST
DTSTART:20210328T010000
END:DAYLIGHT
BEGIN:STANDARD
TZOFFSETFROM:+0200
TZOFFSETTO:+0100
TZNAME:CET
DTSTART:20211031T010000
END:STANDARD
END:VTIMEZONE
BEGIN:VEVENT
DTSTART;TZID=Europe/Paris:20200415T000000
DTEND;TZID=Europe/Paris:20200415T235959
DTSTAMP:20260424T044004
CREATED:20200415T122835Z
LAST-MODIFIED:20200517T204634Z
UID:5517-1586908800-1586995199@soeurs-de-lalliance.org
SUMMARY:Chemin d'Emmaüs
DESCRIPTION:Mercredi saint  : Luc 24\,13-35;  “De quoi discutez-vous en marchant ? ”\n\n\n\n\n\n\n\nJésus leur dit : “De quoi discutez-vous en marchant ? ” […] Ils lui répondirent : “Ce qui est arrivé à Jésus de Nazareth\, […] Il leur dit alors : “Esprit sans intelligence ! Comme votre cœur est lent à croire tout ce que les prophètes ont dit ! […]                                                                                                                   Lc 24\, 17.19.25.
URL:https://soeurs-de-lalliance.org/agenda/5517/
CATEGORIES:Temps liturgique
ATTACH;FMTTYPE=image/jpeg:https://soeurs-de-lalliance.org/wp-content/uploads/2020/04/Chemin-dEmmaus1-e1586981005675.jpg
END:VEVENT
END:VCALENDAR